BEGIN:VCALENDAR
VERSION:2.0
PRODID:-//RENCI - ECPv5.4.0.2//NONSGML v1.0//EN
CALSCALE:GREGORIAN
METHOD:PUBLISH
X-WR-CALNAME:RENCI
X-ORIGINAL-URL:https://archive.renci.org
X-WR-CALDESC:Events for RENCI
BEGIN:VTIMEZONE
TZID:America/New_York
BEGIN:DAYLIGHT
TZOFFSETFROM:-0500
TZOFFSETTO:-0400
TZNAME:EDT
DTSTART:20180311T070000
END:DAYLIGHT
BEGIN:STANDARD
TZOFFSETFROM:-0400
TZOFFSETTO:-0500
TZNAME:EST
DTSTART:20181104T060000
END:STANDARD
END:VTIMEZONE
BEGIN:VEVENT
DTSTART;TZID=America/New_York:20180719T120000
DTEND;TZID=America/New_York:20180719T133000
DTSTAMP:20260425T172041
CREATED:20180716T183241Z
LAST-MODIFIED:20180717T134423Z
UID:17605-1532001600-1532007000@archive.renci.org
SUMMARY:Data Science Roundtable: Data > Patterns > Insights > Action
DESCRIPTION:San Jose’s Office of Civic Innovation and Digital Strategy is a two-year old startup charged with transforming the delivery of city services and making the city as innovative as the community they serve. Speakers will share stories that cover the highs and lows of the use of data to improve service delivery\, including transforming their hiring process\, redesigning their campaign to reduce illegal dumping\, creating algorithms to improve their inspection program\, and more. \nSpeakers:\nErica Garaffo\, Data Analytics Lead | Office of Civic Innovation & Digital Strategy\nKip Harkness | Deputy City Manager\, City of San Jose \nModerator:\nLea Shanley | South Big Data Hub
URL:https://archive.renci.org/event/data-science-roundtable-data-patterns-insights-action/
LOCATION:Virtual
END:VEVENT
END:VCALENDAR