BEGIN:VCALENDAR
VERSION:2.0
PRODID:-//RENCI - ECPv5.4.0.2//NONSGML v1.0//EN
CALSCALE:GREGORIAN
METHOD:PUBLISH
X-WR-CALNAME:RENCI
X-ORIGINAL-URL:https://archive.renci.org
X-WR-CALDESC:Events for RENCI
BEGIN:VTIMEZONE
TZID:America/New_York
BEGIN:DAYLIGHT
TZOFFSETFROM:-0500
TZOFFSETTO:-0400
TZNAME:EDT
DTSTART:20180311T070000
END:DAYLIGHT
BEGIN:STANDARD
TZOFFSETFROM:-0400
TZOFFSETTO:-0500
TZNAME:EST
DTSTART:20181104T060000
END:STANDARD
END:VTIMEZONE
BEGIN:VEVENT
DTSTART;TZID=America/New_York:20180927T083000
DTEND;TZID=America/New_York:20180928T170000
DTSTAMP:20260425T160536
CREATED:20180820T120538Z
LAST-MODIFIED:20180820T120538Z
UID:17678-1538037000-1538154000@archive.renci.org
SUMMARY:Deep Learning Symposium
DESCRIPTION:This two-day event will cover deep learning\, machine learning\, and artificial intelligence — technologies transforming diverse scientific\, engineering\, and business domains. Hosted by UNC-Chapel Hill\, Nvidia\, and SAS. \nMore Information
URL:https://archive.renci.org/event/deep-learning-symposium/
LOCATION:SAS World Headquarters\, 100 SAS Campus Drive.\, Cary\, 27513\, United States
END:VEVENT
END:VCALENDAR