BEGIN:VCALENDAR
VERSION:2.0
PRODID:-//RENCI - ECPv5.4.0.2//NONSGML v1.0//EN
CALSCALE:GREGORIAN
METHOD:PUBLISH
X-WR-CALNAME:RENCI
X-ORIGINAL-URL:https://archive.renci.org
X-WR-CALDESC:Events for RENCI
BEGIN:VTIMEZONE
TZID:America/New_York
BEGIN:DAYLIGHT
TZOFFSETFROM:-0500
TZOFFSETTO:-0400
TZNAME:EDT
DTSTART:20220313T070000
END:DAYLIGHT
BEGIN:STANDARD
TZOFFSETFROM:-0400
TZOFFSETTO:-0500
TZNAME:EST
DTSTART:20221106T060000
END:STANDARD
END:VTIMEZONE
BEGIN:VEVENT
DTSTART;VALUE=DATE:20220705
DTEND;VALUE=DATE:20220709
DTSTAMP:20260424T131658
CREATED:20211001T152935Z
LAST-MODIFIED:20220131T153209Z
UID:19079-1656979200-1657324799@archive.renci.org
SUMMARY:iRODS User Group Meeting 2022
DESCRIPTION:The 14th Annual iRODS User Group Meeting\, hosted by KU Leuven\, is your chance to meet iRODS users\, Consortium members\, and staff to discuss iRODS-enabled applications and discoveries\, technologies powered by iRODS\, and the future of iRODS and the iRODS Consortium. \nWe will host 25+ presentations from the user community and the core development team\, including use case presentations\, live demonstrations\, and open discussions about requested iRODS features. We anticipate an audience of 150 participants representing dozens of academic\, government\, and commercial institutions.
URL:https://archive.renci.org/event/irods-user-group-meeting-2022/
CATEGORIES:Meeting
ATTACH;FMTTYPE=image/png:https://archive.renci.org/wp-content/uploads/2021/10/iRODS_Save-the-date_UGM22_V3.png
END:VEVENT
END:VCALENDAR