BEGIN:VCALENDAR
VERSION:2.0
PRODID:-//RENCI - ECPv5.4.0.2//NONSGML v1.0//EN
CALSCALE:GREGORIAN
METHOD:PUBLISH
X-WR-CALNAME:RENCI
X-ORIGINAL-URL:https://archive.renci.org
X-WR-CALDESC:Events for RENCI
BEGIN:VTIMEZONE
TZID:America/New_York
BEGIN:DAYLIGHT
TZOFFSETFROM:-0500
TZOFFSETTO:-0400
TZNAME:EDT
DTSTART:20200308T070000
END:DAYLIGHT
BEGIN:STANDARD
TZOFFSETFROM:-0400
TZOFFSETTO:-0500
TZNAME:EST
DTSTART:20201101T060000
END:STANDARD
END:VTIMEZONE
BEGIN:VEVENT
DTSTART;TZID=America/New_York:20200512T150000
DTEND;TZID=America/New_York:20200512T160000
DTSTAMP:20260421T064059
CREATED:20200401T190614Z
LAST-MODIFIED:20200401T190614Z
UID:18518-1589295600-1589299200@archive.renci.org
SUMMARY:Orchestration: Heat Templates - Chameleon Cloud Webinar
DESCRIPTION:In previous webinars we saw how to create and run an experiment using Jupyter Notebooks and automate configuring an experiment in multiple servers inside a custom network using Ansible. This time\, we will raise the bar once again and use a heat template to create the entire experiment — reservation\, servers\, network\, experiment — without human intervention besides starting the build process. \nYou will leave this webinar knowing what a heat template is\, how to write one\, and how to set up a reservation in the future that will automatically create your experiment from scratch at the reserved time.
URL:https://archive.renci.org/event/orchestration-heat-templates-chameleon-cloud-webinar/
LOCATION:Virtual
CATEGORIES:Webinar
END:VEVENT
END:VCALENDAR