BEGIN:VCALENDAR
VERSION:2.0
PRODID:-//RENCI - ECPv5.4.0.2//NONSGML v1.0//EN
CALSCALE:GREGORIAN
METHOD:PUBLISH
X-WR-CALNAME:RENCI
X-ORIGINAL-URL:https://archive.renci.org
X-WR-CALDESC:Events for RENCI
BEGIN:VTIMEZONE
TZID:America/New_York
BEGIN:DAYLIGHT
TZOFFSETFROM:-0500
TZOFFSETTO:-0400
TZNAME:EDT
DTSTART:20220313T070000
END:DAYLIGHT
BEGIN:STANDARD
TZOFFSETFROM:-0400
TZOFFSETTO:-0500
TZNAME:EST
DTSTART:20221106T060000
END:STANDARD
END:VTIMEZONE
BEGIN:VEVENT
DTSTART;TZID=America/New_York:20220331T090000
DTEND;TZID=America/New_York:20220401T130000
DTSTAMP:20260425T123747
CREATED:20220328T202030Z
LAST-MODIFIED:20220330T213010Z
UID:19317-1648717200-1648818000@archive.renci.org
SUMMARY:Spring 2022 Conference on AI and Knowledge Work
DESCRIPTION:In celebration of the school’s 90th Anniversary\, please join the UNC School of Information and Library Science (SILS) for its second Conference on AI and Knowledge Work. The Conference will take place with face-to-face and virtual components over a two-day period.
URL:https://archive.renci.org/event/spring-2022-conference-on-ai-and-knowledge-work/
LOCATION:William and Ida Friday Center for Continuing Education\, 100 Friday Center Drive\, Chapel Hill\, NC\, United States
CATEGORIES:Conference
ATTACH;FMTTYPE=image/jpeg:https://archive.renci.org/wp-content/uploads/2022/03/AI-screen-3.jpeg
END:VEVENT
END:VCALENDAR