BEGIN:VCALENDAR
VERSION:2.0
PRODID:-//RENCI - ECPv5.4.0.2//NONSGML v1.0//EN
CALSCALE:GREGORIAN
METHOD:PUBLISH
X-WR-CALNAME:RENCI
X-ORIGINAL-URL:https://archive.renci.org
X-WR-CALDESC:Events for RENCI
BEGIN:VTIMEZONE
TZID:America/New_York
BEGIN:DAYLIGHT
TZOFFSETFROM:-0500
TZOFFSETTO:-0400
TZNAME:EDT
DTSTART:20190310T070000
END:DAYLIGHT
BEGIN:STANDARD
TZOFFSETFROM:-0400
TZOFFSETTO:-0500
TZNAME:EST
DTSTART:20191103T060000
END:STANDARD
END:VTIMEZONE
BEGIN:VEVENT
DTSTART;VALUE=DATE:20190515
DTEND;VALUE=DATE:20190516
DTSTAMP:20260424T185141
CREATED:20190731T163703Z
LAST-MODIFIED:20190731T163703Z
UID:18318-1557878400-1557964799@archive.renci.org
SUMMARY:TRiRODS
DESCRIPTION:Attend the TRiRODS meetup\nNFSRODS is an iRODS Client that presents the iRODS virtual file system as NFSv4.1. This allows iRODS to be surfaced into any existing infrastructure with just a mount command\, while still preserving the server-side policies enforced by the iRODS API. The demo explains the security model assumptions and shows events from regular file system activity appearing in an iRODS audit dashboard.  \nTRiRODS is a local meetup for iRODS users and developers in the RDU area. TRiRODS works to build a strong sense of community\, to offer a space for collaboration and sharing of individual implementations of iRODS\, and to further the work on a hardened version of the code.
URL:https://archive.renci.org/event/trirods-3/
LOCATION:RENCI\, Chapel Hill\, NC\, United States
END:VEVENT
END:VCALENDAR